BEGIN:VCALENDAR
VERSION:2.0
PRODID:-//wp-events-plugin.com//6.5.2//EN
TZID:Europe/Berlin
X-WR-TIMEZONE:Europe/Berlin
BEGIN:VEVENT
UID:157@ampapierbach-landsberg.de
DTSTART;TZID=Europe/Berlin:20240921T180000
DTEND;TZID=Europe/Berlin:20240921T230000
DTSTAMP:20240909T075313Z
URL:https://ampapierbach-landsberg.de/veranstaltungen/lange-kunstnacht/
SUMMARY:Lange Kunstnacht
DESCRIPTION:Am Samstag\, 21. September 2024 ist es wieder soweit: Zwischen 
 18 und 23 Uhr verzaubert die 24. Lange Kunstnacht die Innenstadt von Lands
 berg. Malerei\, Fotografie\, Kunsthandwerk\, Skulpturen\, Performance gibt
  es in Läden und Büros\, auf Plätzen und Brücken zu entdecken. Ein Abe
 nd zum Staunen\, Innehalten\, Mitmachen\, Inspirieren lassen.\n\nIn der La
 ndsberger Altstadt hat dies eine lange Tradition. Wir sind nun bereits zum
  zweiten Mal dabei.\n\nDie Highlights zur Langen Kunstnacht im Quartier Am
  Papierbach auf einen Blick:\n\n 	Ausstellung "places" mit Malerei &amp\; 
 Fotografie von Hanna Zwerger im Erdgeschoss der Pop-Up Galerie / Sternrad 
 Haus / An der Schmiede 11\n 	Junge Fotokunst mit Fabian Frederiks\, Melina
  Frederiks\, Sophie Leopolder im Obergeschoss der Pop-Up Galerie\n 	Konzer
 t um 19:30 Uhr mit Katharina Gruber (Gesang) &amp\; Christian Gruber (Gita
 rre) Pop-Up Galerie Außenbereich\n 	Mitmachaktion Streetart mit Straßenm
 alkreide / Pop-Up Galerie Außenbereich\n 	Klaviermusik von Sebastian Step
 han / Café Avenir / An der Schmiede 15\n 	Beleuchtung des Kunstwerks an d
 er Giebelwand des Sternrad Hauses / Siegerduo des Kunstwettbewerbs Video.S
 ckre\n 	Beleuchtung der Streetart am Europaplatz 1.0 &amp\; Treff mit Stre
 etart-Nachwuchstalenten\n 	Kulinarische Kartoffelkreationen + Getränke am
  Europaplatz 1.0 mit Foodtruck vom Landsberger Das Kartoffelwerk\n 	Kunst 
 des Gins / Drinks/ am Europaplatz 1.0 mit Bar vom Landsberger Start-Up Lec
 h Life Gin\n\nWir freuen uns auf einen Abend voller Kunst\, Inspiration un
 d Begegnung im Quartier und der gesamten Innenstadt
ATTACH;FMTTYPE=image/jpeg:https://ampapierbach-landsberg.de/wp-content/upl
 oads/2024/07/Bild_LangeKunstnacht2024.png
LOCATION:Pop-Up-Galerie im Sternrad Haus\, An der Schmiede 11\, Landsberg a
 m Lech\, 86899\, Deutschland
X-APPLE-STRUCTURED-LOCATION;VALUE=URI;X-ADDRESS=An der Schmiede 11\, Landsb
 erg am Lech\, 86899\, Deutschland;X-APPLE-RADIUS=100;X-TITLE=Pop-Up-Galeri
 e im Sternrad Haus:geo:0,0
END:VEVENT
BEGIN:VTIMEZONE
TZID:Europe/Berlin
X-LIC-LOCATION:Europe/Berlin
BEGIN:DAYLIGHT
DTSTART:20240331T030000
TZOFFSETFROM:+0100
TZOFFSETTO:+0200
TZNAME:CEST
END:DAYLIGHT
END:VTIMEZONE
END:VCALENDAR