BEGIN:VCALENDAR
VERSION:2.0
PRODID:-//wp-events-plugin.com//6.5.2//EN
TZID:Europe/Berlin
X-WR-TIMEZONE:Europe/Berlin
BEGIN:VEVENT
UID:159@ampapierbach-landsberg.de
DTSTART;TZID=Europe/Berlin:20240928T160000
DTEND;TZID=Europe/Berlin:20240928T180000
DTSTAMP:20240925T112928Z
URL:https://ampapierbach-landsberg.de/veranstaltungen/ausstellung-von-hann
 a-zwerger-places-junge-fotokunst/
SUMMARY:Ausstellung von Hanna Zwerger "places" &amp\; Junge Fotokunst
DESCRIPTION:Die in der Langen Kunstnacht eröffnete Ausstellung umfasst Mal
 erei\, Fotografie von Hanna Zwerger und Junge Fotokunst Fabian Frederiks\,
  Melina Frederiks und Sophie Leopolder und ist noch bis zum 5. Oktober 202
 4 zu sehen.\n\nDienstag 18-20 Uhr / Samstag 16-18 Uhr / Finissage am Samst
 ag\, 5.10.24 16-18 Uhr /                                 
          Pop-Up Galerie im Sternrad Haus / An der Schmiede 11\n\nHanna
  Zwerger zeigt im Rahmen von PLACES im Erdgeschoss der Pop-Up-Galerie ihre
  Malerei. Sie entführt den Betrachter an innere Orte – an Orte\, an den
 en es ganz still wird und an denen wir verweilen wollen. Jeder kennt den M
 oment\, in dem nur das gegenwertige Erleben zählt. Ein erfrischendes Bad\
 , in einem türkisklaren Gumpen\, ein Kind\, das sich zwischen den Klippen
  ins Muschelsuchen vertieft das sind Motive\, denen Sie in der Ausstellung
  begegnen werden. Hanna Zwergers Bilder leuchten auf eine ungewöhnliche W
 eise\, sie versteht es\, den Bildern eine strahlende Wirkung zu verleihen 
 und die Farbe dabei dennoch sensibel einzusetzen. Ihr Pinselduktus changie
 rt zwischen einer gestischen Offenheit und einer Verdichtung von Farbschic
 hten. Durch die Auswahl der Motive und die besondere Art der Farbgebung wi
 rken die Arbeiten gegenwärtig\, präsent und zugleich magisch entrückt.\
 n\nNeben Malerei zeigt die Künstlerin im Obergeschoss auch fotografische 
 Werke in Form einer digitalen Präsentation\, die sich künstlerisch mit d
 em Ort der alten Pflugfabrik auseinandersetzen.\n\nDrei junge Fotokünstle
 r:innen präsentieren ihre Werke im Obergeschoss. Die Drei vereint ein Int
 eresse an der analogen Fotografie\, wobei Motivation\, Thema und Zugang be
 i jedem Einzelnen ganz unterschiedlich sind.\nFabian Frederiks fotografier
 t mit einer analogen Kleinbildkamera in Farbe. Die Canon T70 aus den 80er-
 Jahren begleitete ihn auf seinen Reisen auf verschiedene Kontinente. Er ne
 nnt seine Bilderserien schlicht „Farbfotografie“.\n\nMelina Frederiks 
 hat gerade ihr Studium im Bereich Kommunikationsdesign an der Hochschule A
 ugsburg abgeschlossen und präsentiert in der Ausstellung nun eine Arbeit 
 aus ihrer Studienzeit. Melina befasst sich in ihrer Reportage „Leere Kan
 äle“ mit der Einsamkeit von jungen Erwachsenen.\n\nSophie Leopolder ali
 as isolde studiert Kommunikationsdesign an der Hochschule Augsburg. Die au
 sgestellte Arbeit ist eine Semesterarbeit mit dem Titel „einszueins“. 
 Sie fotografiert in ihrem Projekt Frauen mit einer Großformatkamera auf 8
 x10-Zoll-Negativfilm und entwickelt jede Aufnahme als Kontaktprint in der 
 Dunkelkammer.
ATTACH;FMTTYPE=image/jpeg:https://ampapierbach-landsberg.de/wp-content/upl
 oads/2024/09/Plakat-Popup-Galerie-scaled.jpg
LOCATION:Pop-Up-Galerie im Sternrad Haus\, An der Schmiede 11\, Landsberg a
 m Lech\, 86899\, Deutschland
X-APPLE-STRUCTURED-LOCATION;VALUE=URI;X-ADDRESS=An der Schmiede 11\, Landsb
 erg am Lech\, 86899\, Deutschland;X-APPLE-RADIUS=100;X-TITLE=Pop-Up-Galeri
 e im Sternrad Haus:geo:0,0
END:VEVENT
BEGIN:VTIMEZONE
TZID:Europe/Berlin
X-LIC-LOCATION:Europe/Berlin
BEGIN:DAYLIGHT
DTSTART:20240331T030000
TZOFFSETFROM:+0100
TZOFFSETTO:+0200
TZNAME:CEST
END:DAYLIGHT
END:VTIMEZONE
END:VCALENDAR