BEGIN:VCALENDAR
VERSION:2.0
PRODID:-//wp-events-plugin.com//6.5.2//EN
TZID:Europe/Berlin
X-WR-TIMEZONE:Europe/Berlin
BEGIN:VEVENT
UID:81@ampapierbach-landsberg.de
DTSTART;TZID=Europe/Berlin:20240317T100000
DTEND;TZID=Europe/Berlin:20240317T160000
DTSTAMP:20240223T100910Z
URL:https://ampapierbach-landsberg.de/veranstaltungen/ausstellung-der-stad
 t-landsberg-zukunft-des-wohnens-in-landsberg-am-lech-2024-03-17/
SUMMARY:Ausstellung der Stadt Landsberg: Zukunft des Wohnens in Landsberg a
 m Lech
DESCRIPTION:Ausstellung vom 9. bis 24. März 2024\n\nDie Stadt Landsberg l
 ädt alle interessierten Bürgerinnen und Bürger zum „Wohntreff“\, ei
 nem Aktionstag am Samstag\, 9. März und anschließender Ausstellungszeit 
 bis 24. März 2024 zur Zukunft des Wohnens in Landsberg am Lech ein.\n\n 	
 Ausstellung zum geplanten neuen Wohnquartier an der Pfettenstraße\, desse
 n städtebaulicher und landschaftsplanerischer Wettbewerb bereits abgeschl
 ossen ist. Mit der Präsentation des virtuellen 3D-Stadtmodells besteht im
  Rahmen der Ausstellung die Möglichkeit\, das neue Quartier bereits jetzt
  schon zu erleben (nur samstags).\n 	Ausstellung des Wessobrunner Kreis e.
 V.  unter dem Titel „lebenswert. Alternativen zum Einfamilienhaus“\n\
 nBeide Ausstellungen können bis zum 24. März 2024 besucht werden:\n\n 	j
 eweils donnerstags und freitags zwischen 16:00 Uhr und 19:00 Uhr sowie\n 	
 samstags und sonntags zwischen 10:00 Uhr und 16:00 Uhr.\n\nDer Aktionstag 
 sowie beide Ausstellungen finden barrierefrei im Sternrad Haus im Quartier
  „Urbanes Leben am Papierbach“\, An der Schmiede 11 in Landsberg am Le
 ch statt.\n\nAusführliche Information zur Entwicklung des innovativen Woh
 nquartiers an der Pfettenstraße sind auf der Website der Stadt Landsberg
  aufgeführt.\n\nAusführliche Informationen zu TwinCity3D-Digitaler Zwi
 lling für die Stadt Landsberg (Forschungsprojekt für Digitalisierung\, S
 tadt-\, Verkehrs- und Klimaplanung) sind hier abrufbar
ATTACH;FMTTYPE=image/jpeg:https://ampapierbach-landsberg.de/wp-content/upl
 oads/2024/02/Stadt_LL_Postkarte_S2_Programm_Wohntreff.png
LOCATION:Pop-Up-Galerie im Sternrad Haus\, An der Schmiede 11\, Landsberg a
 m Lech\, 86899\, Deutschland
X-APPLE-STRUCTURED-LOCATION;VALUE=URI;X-ADDRESS=An der Schmiede 11\, Landsb
 erg am Lech\, 86899\, Deutschland;X-APPLE-RADIUS=100;X-TITLE=Pop-Up-Galeri
 e im Sternrad Haus:geo:0,0
END:VEVENT
BEGIN:VTIMEZONE
TZID:Europe/Berlin
X-LIC-LOCATION:Europe/Berlin
BEGIN:STANDARD
DTSTART:20231029T020000
TZOFFSETFROM:+0200
TZOFFSETTO:+0100
TZNAME:CET
END:STANDARD
END:VTIMEZONE
END:VCALENDAR